BEGIN:VCALENDAR
VERSION:2.0
PRODID:-//NJ Council for the Humanities - ECPv6.15.20//NONSGML v1.0//EN
CALSCALE:GREGORIAN
METHOD:PUBLISH
X-ORIGINAL-URL:https://njhumanities.org
X-WR-CALDESC:Events for NJ Council for the Humanities
REFRESH-INTERVAL;VALUE=DURATION:PT1H
X-Robots-Tag:noindex
X-PUBLISHED-TTL:PT1H
BEGIN:VTIMEZONE
TZID:America/New_York
BEGIN:DAYLIGHT
TZOFFSETFROM:-0500
TZOFFSETTO:-0400
TZNAME:EDT
DTSTART:20210314T070000
END:DAYLIGHT
BEGIN:STANDARD
TZOFFSETFROM:-0400
TZOFFSETTO:-0500
TZNAME:EST
DTSTART:20211107T060000
END:STANDARD
BEGIN:DAYLIGHT
TZOFFSETFROM:-0500
TZOFFSETTO:-0400
TZNAME:EDT
DTSTART:20220313T070000
END:DAYLIGHT
BEGIN:STANDARD
TZOFFSETFROM:-0400
TZOFFSETTO:-0500
TZNAME:EST
DTSTART:20221106T060000
END:STANDARD
BEGIN:DAYLIGHT
TZOFFSETFROM:-0500
TZOFFSETTO:-0400
TZNAME:EDT
DTSTART:20230312T070000
END:DAYLIGHT
BEGIN:STANDARD
TZOFFSETFROM:-0400
TZOFFSETTO:-0500
TZNAME:EST
DTSTART:20231105T060000
END:STANDARD
END:VTIMEZONE
BEGIN:VEVENT
DTSTART;TZID=America/New_York:20220912T190000
DTEND;TZID=America/New_York:20220912T200000
DTSTAMP:20260422T083430
CREATED:20220622T192315Z
LAST-MODIFIED:20220909T203036Z
UID:10000083-1663009200-1663012800@njhumanities.org
SUMMARY:Democracy Conversation Project - Ocean County Library
DESCRIPTION:The Ocean County Library\, Toms River is pleased to present “Civic Participation in Cancer Alley” on Monday\, September 12 at 7:00 pm. This hybrid public humanities program from scholar Thomas Belton will explore the environmental history of NJ and how citizens have shaped that history through activism and engagement. \nIn-person attendees should go to Mancini Hall; virtual attendees may register via Zoom. Click here for additional details and to register to attend in-person or via Zoom. \nThomas Belton is an author\, journalist\, environmental scientist\, and marine biologist who worked for the New Jersey Department of Environmental Protection for 25 years. His professional memoir\, Protecting New Jersey’s Environment: From Cancer Alley to the New Garden State (Rutgers University Press) was named a 2010 Honor Book by the New Jersey Council for the Humanities. As a research scientist\, he has published hundreds of scientific articles and essays. His most recent essays include “The Making of an Environmentalist” (2021) in Transformations Magazine\, and “Sea Level Rise and the Two Cultures” (2020) in Superstition Review. He is also a frequent op-ed writer for the New York Times\, the Baltimore Sun\, and the Philadelphia Inquirer.
URL:https://njhumanities.org/event/democracy-conversation-project-ocean-county-library/
LOCATION:Ocean County Library – Toms River branch\, 101 Washington St.\, Toms River\, NJ\, 08753\, United States
CATEGORIES:Democracy Conversation Project
ATTACH;FMTTYPE=image/jpeg:https://njhumanities.org/wp-content/uploads/2021/03/DCP.jpg
END:VEVENT
END:VCALENDAR