BEGIN:VCALENDAR
VERSION:2.0
PRODID:-//NJ Council for the Humanities - ECPv6.15.20//NONSGML v1.0//EN
CALSCALE:GREGORIAN
METHOD:PUBLISH
X-WR-CALNAME:NJ Council for the Humanities
X-ORIGINAL-URL:https://njhumanities.org
X-WR-CALDESC:Events for NJ Council for the Humanities
REFRESH-INTERVAL;VALUE=DURATION:PT1H
X-Robots-Tag:noindex
X-PUBLISHED-TTL:PT1H
BEGIN:VTIMEZONE
TZID:America/New_York
BEGIN:DAYLIGHT
TZOFFSETFROM:-0500
TZOFFSETTO:-0400
TZNAME:EDT
DTSTART:20240310T070000
END:DAYLIGHT
BEGIN:STANDARD
TZOFFSETFROM:-0400
TZOFFSETTO:-0500
TZNAME:EST
DTSTART:20241103T060000
END:STANDARD
BEGIN:DAYLIGHT
TZOFFSETFROM:-0500
TZOFFSETTO:-0400
TZNAME:EDT
DTSTART:20250309T070000
END:DAYLIGHT
BEGIN:STANDARD
TZOFFSETFROM:-0400
TZOFFSETTO:-0500
TZNAME:EST
DTSTART:20251102T060000
END:STANDARD
BEGIN:DAYLIGHT
TZOFFSETFROM:-0500
TZOFFSETTO:-0400
TZNAME:EDT
DTSTART:20260308T070000
END:DAYLIGHT
BEGIN:STANDARD
TZOFFSETFROM:-0400
TZOFFSETTO:-0500
TZNAME:EST
DTSTART:20261101T060000
END:STANDARD
END:VTIMEZONE
BEGIN:VEVENT
DTSTART;TZID=America/New_York:20250714T190000
DTEND;TZID=America/New_York:20250714T203000
DTSTAMP:20260420T115942
CREATED:20250707T131648Z
LAST-MODIFIED:20250707T131648Z
UID:10000367-1752519600-1752525000@njhumanities.org
SUMMARY:Food for Thought: Preserving Fruit
DESCRIPTION:NJCH is proud to support Piscataway Public Library’s “Food for Thought\,” a series of events exploring the cultural and historical significance of food in our lives\, through an Action Grant. \n— \nDo you love eating seasonally? Want to learn how to make the local fruit season last all year? Join Library staff to learn the basics! In this class\, you’ll learn how to preserve fresh fruit as jams and jellies (and more). July is just the start of the produce season in New Jersey — we’ll get you started with recipes and demonstrate the equipment you’ll need for a successful season of canning! \nRegistration is required via the library website. \nThe Food for Thought project was made possible by a grant from the New Jersey Council for the Humanities\, a state partner of the National Endowment for the Humanities. Any views\, findings\, conclusions\, or recommendations expressed in this event do not necessarily represent those of the National Endowment for the Humanities or the New Jersey Council for the Humanities.
URL:https://njhumanities.org/event/food-for-thought-preserving-fruit/
LOCATION:Piscataway Public Library – Kennedy Branch\, 500 Hoes Ln\, Piscataway\, NJ\, 08854\, United States
CATEGORIES:Grantee Event
ATTACH;FMTTYPE=image/jpeg:https://njhumanities.org/wp-content/uploads/2025/03/food-for-thought-pickling.jpg
ORGANIZER;CN="Piscataway Public Library":MAILTO:kdigiulio@piscatawaylibrary.org
END:VEVENT
END:VCALENDAR