BEGIN:VCALENDAR
VERSION:2.0
PRODID:-//NJ Council for the Humanities - ECPv6.15.20//NONSGML v1.0//EN
CALSCALE:GREGORIAN
METHOD:PUBLISH
X-WR-CALNAME:NJ Council for the Humanities
X-ORIGINAL-URL:https://njhumanities.org
X-WR-CALDESC:Events for NJ Council for the Humanities
REFRESH-INTERVAL;VALUE=DURATION:PT1H
X-Robots-Tag:noindex
X-PUBLISHED-TTL:PT1H
BEGIN:VTIMEZONE
TZID:America/New_York
BEGIN:DAYLIGHT
TZOFFSETFROM:-0500
TZOFFSETTO:-0400
TZNAME:EDT
DTSTART:20240310T070000
END:DAYLIGHT
BEGIN:STANDARD
TZOFFSETFROM:-0400
TZOFFSETTO:-0500
TZNAME:EST
DTSTART:20241103T060000
END:STANDARD
BEGIN:DAYLIGHT
TZOFFSETFROM:-0500
TZOFFSETTO:-0400
TZNAME:EDT
DTSTART:20250309T070000
END:DAYLIGHT
BEGIN:STANDARD
TZOFFSETFROM:-0400
TZOFFSETTO:-0500
TZNAME:EST
DTSTART:20251102T060000
END:STANDARD
BEGIN:DAYLIGHT
TZOFFSETFROM:-0500
TZOFFSETTO:-0400
TZNAME:EDT
DTSTART:20260308T070000
END:DAYLIGHT
BEGIN:STANDARD
TZOFFSETFROM:-0400
TZOFFSETTO:-0500
TZNAME:EST
DTSTART:20261101T060000
END:STANDARD
END:VTIMEZONE
BEGIN:VEVENT
DTSTART;TZID=America/New_York:20251201T180000
DTEND;TZID=America/New_York:20251201T180000
DTSTAMP:20260420T062416
CREATED:20251208T205050Z
LAST-MODIFIED:20251208T205050Z
UID:10000405-1764612000-1764612000@njhumanities.org
SUMMARY:Willingboro Futuro House Documentary Screening and Ribbon Cutting Ceremony
DESCRIPTION:The Willingboro Community Development Corporation\, a recipient of multiple NJCH grants\, will host a screening of a documentary film and opening of an exhibit about Willingoboro’s storied Futuro House. The organization’s work to reserve the historic structure began in NJCH’s Community History Program and has since been supported by incubation and action grants. \n— \nBe among the first to explore the exhibit\, connect with community members\, and experience the magic\, mystery\, and innovation behind the iconic Willingboro Futuro House. The event will be held December 1\, 2025 at 6:00 p.m. at Willingboro Public Library.  \nRSVP is required by emailing thewcdc@gmail.com. For questions about the event\, please email or call (609) 262-8294.
URL:https://njhumanities.org/event/willingboro-futuro-house-documentary-screening-and-ribbon-cutting-ceremony/
LOCATION:Willingboro Public Library\, 220 Willingboro Way\, Willingboro\, NJ\, 08046\, United States
CATEGORIES:Grantee Event
ATTACH;FMTTYPE=image/jpeg:https://njhumanities.org/wp-content/uploads/2023/08/willingborofuturohouse.jpg
END:VEVENT
END:VCALENDAR