BEGIN:VCALENDAR
VERSION:2.0
PRODID:-//NJ Council for the Humanities - ECPv6.15.20//NONSGML v1.0//EN
CALSCALE:GREGORIAN
METHOD:PUBLISH
X-WR-CALNAME:NJ Council for the Humanities
X-ORIGINAL-URL:https://njhumanities.org
X-WR-CALDESC:Events for NJ Council for the Humanities
REFRESH-INTERVAL;VALUE=DURATION:PT1H
X-Robots-Tag:noindex
X-PUBLISHED-TTL:PT1H
BEGIN:VTIMEZONE
TZID:America/New_York
BEGIN:DAYLIGHT
TZOFFSETFROM:-0500
TZOFFSETTO:-0400
TZNAME:EDT
DTSTART:20240310T070000
END:DAYLIGHT
BEGIN:STANDARD
TZOFFSETFROM:-0400
TZOFFSETTO:-0500
TZNAME:EST
DTSTART:20241103T060000
END:STANDARD
BEGIN:DAYLIGHT
TZOFFSETFROM:-0500
TZOFFSETTO:-0400
TZNAME:EDT
DTSTART:20250309T070000
END:DAYLIGHT
BEGIN:STANDARD
TZOFFSETFROM:-0400
TZOFFSETTO:-0500
TZNAME:EST
DTSTART:20251102T060000
END:STANDARD
BEGIN:DAYLIGHT
TZOFFSETFROM:-0500
TZOFFSETTO:-0400
TZNAME:EDT
DTSTART:20260308T070000
END:DAYLIGHT
BEGIN:STANDARD
TZOFFSETFROM:-0400
TZOFFSETTO:-0500
TZNAME:EST
DTSTART:20261101T060000
END:STANDARD
END:VTIMEZONE
BEGIN:VEVENT
DTSTART;TZID=America/New_York:20251106T123000
DTEND;TZID=America/New_York:20251106T123000
DTSTAMP:20260420T062421
CREATED:20250911T144907Z
LAST-MODIFIED:20251113T164845Z
UID:10000381-1762432200-1762432200@njhumanities.org
SUMMARY:Community History 2026 Information Session
DESCRIPTION:Event Recording\n\n \n\nJoin NJCH’s Director of Programs to learn about the 2026 Community History program (application deadline: December 9\, 2025). \nCommunity History participants receive instruction on public history practices and community-engagement methods and develop projects in close collaboration with their community members. \nThe 2026 program will focus on America’s 250th anniversary and its legacy. We strongly recommend reviewing program information and application guidelines on NJCH’s website before attending this information session.
URL:https://njhumanities.org/event/community-history-2026-information-session/
LOCATION:https://njhumanities.org/event/community-history-2026-information-session/
CATEGORIES:Community History
ATTACH;FMTTYPE=image/jpeg:https://njhumanities.org/wp-content/uploads/2025/06/community-history-8x6-1.jpg
ORGANIZER;CN="New Jersey Council for the Humanities":MAILTO:info@njhumanities.org
END:VEVENT
BEGIN:VEVENT
DTSTART;TZID=America/New_York:20251106T183000
DTEND;TZID=America/New_York:20251106T203000
DTSTAMP:20260420T062421
CREATED:20250324T180657Z
LAST-MODIFIED:20250707T134150Z
UID:10000330-1762453800-1762461000@njhumanities.org
SUMMARY:Food for Thought: Indian Cooking - Paneer Peppers
DESCRIPTION:NJCH is proud to support Piscataway Public Library’s “Food for Thought\,” a series of events exploring the cultural and historical significance of food in our lives\, through an Action Grant. \n— \nIn this Food for Thought workshop\, participants will learn to turn your deliciously beautiful red\, orange\, yellow peppers in to showstoppers on your dinner table! Experience a burst of flavors as you bite in to the warm juicy sweet peppers filled with spiced paneer. \nParticipants will make fresh paneer and learn about Indian spices and how they are used in various dishes to give the right flavors! \nThis event is part of our Food for Thought event series. \nThe Food for Thought project was made possible by a grant from the New Jersey Council for the Humanities\, a state partner of the National Endowment for the Humanities. Any views\, findings\, conclusions\, or recommendations expressed in this event do not necessarily represent those of the National Endowment for the Humanities or the New Jersey Council for the Humanities. \nRegistration through the library is required at https://piscataway.librarycalendar.com/events/list?keywords=food%20for%20thought.
URL:https://njhumanities.org/event/food-for-thought-indian-cooking-paneer-peppers/
LOCATION:Piscataway Public Library – Kennedy Branch\, 500 Hoes Ln\, Piscataway\, NJ\, 08854\, United States
CATEGORIES:Grantee Event
ATTACH;FMTTYPE=image/jpeg:https://njhumanities.org/wp-content/uploads/2025/03/paneer-peppers.jpg
ORGANIZER;CN="Piscataway Public Library":MAILTO:kdigiulio@piscatawaylibrary.org
END:VEVENT
END:VCALENDAR